BEGIN:VCALENDAR
VERSION:2.0
PRODID:-//Yoga &amp; Música - ECPv6.15.20//NONSGML v1.0//EN
CALSCALE:GREGORIAN
METHOD:PUBLISH
X-ORIGINAL-URL:https://www.yogaymusica.es
X-WR-CALDESC:Eventos para Yoga &amp; Música
REFRESH-INTERVAL;VALUE=DURATION:PT1H
X-Robots-Tag:noindex
X-PUBLISHED-TTL:PT1H
BEGIN:VTIMEZONE
TZID:Europe/Paris
BEGIN:DAYLIGHT
TZOFFSETFROM:+0100
TZOFFSETTO:+0200
TZNAME:CEST
DTSTART:20220327T010000
END:DAYLIGHT
BEGIN:STANDARD
TZOFFSETFROM:+0200
TZOFFSETTO:+0100
TZNAME:CET
DTSTART:20221030T010000
END:STANDARD
BEGIN:DAYLIGHT
TZOFFSETFROM:+0100
TZOFFSETTO:+0200
TZNAME:CEST
DTSTART:20230326T010000
END:DAYLIGHT
BEGIN:STANDARD
TZOFFSETFROM:+0200
TZOFFSETTO:+0100
TZNAME:CET
DTSTART:20231029T010000
END:STANDARD
BEGIN:DAYLIGHT
TZOFFSETFROM:+0100
TZOFFSETTO:+0200
TZNAME:CEST
DTSTART:20240331T010000
END:DAYLIGHT
BEGIN:STANDARD
TZOFFSETFROM:+0200
TZOFFSETTO:+0100
TZNAME:CET
DTSTART:20241027T010000
END:STANDARD
END:VTIMEZONE
BEGIN:VEVENT
DTSTART;TZID=Europe/Paris:20230311T120000
DTEND;TZID=Europe/Paris:20230311T160000
DTSTAMP:20260423T160100
CREATED:20230220T163431Z
LAST-MODIFIED:20230220T163431Z
UID:20262-1678536000-1678550400@www.yogaymusica.es
SUMMARY:Hot Kundalini Yoga ¡Sana tu espada!
DESCRIPTION:Un catalizador de energía para promover un cambio positivo en tu vida. \nTe invitamos a realizar este ritual el próximo 17 de diciembre en Life Alicante. \nUtilizaremos la práctica como un catalizador de energía para promover un cambio positivo en nuestra vida. \nEs decir\, pondremos la intención de dirigir la energía que movilizaremos hacia un propósito concreto\, como\, por ejemplo: \nAbrir el corazón al amor\, vibrar en salud radiante\, perdonar algo\, tener claridad en la toma de una decisión\, liberar un resentimiento\, recibir inspiración para un nuevo proyecto\, dejar un tóxico\, etc. \nCon: Harchand Singh \nFecha: Sábado 11 de Marzo 2023. \nHora: 12 hs a 14 hs. \nLugar: Life Alicante. Ave Locutor Vicente Hipolito\, 39 03540. Alicante. 656288038 / 966275480. www.lifealicante.com \nPrecio: 20 € general- 15 € socios Life. \nInscripciones:  CLIC AQUÍ \n¡Una experiencia inolvidable! \nProgramación: \n\n12 hs Preparación.\n12:30 hs 108 Saludos al Sol a 42 grados.\n13:30 hs Baño de Gong.\n14 hs Brunch saludable.\n\nLos saludos al sol los haremos en cuatro tandas de 27 saludos al sol\, y tomaremos unos minutos entre tanda y tanda para hidratar y reponer sales minerales con una bebida hipotónica natural con: agua de mar + agua dulce+ zumo de limón. \nEl saludo al sol es un verdadero regalo para el organismo; algunos de los beneficios de su práctica es que mejora la flexibilidad general de los músculos\, tendones y ligamentos\, y estimula la circulación linfática\, sanguínea y fortalece el corazón. \nEl taller es recomendado a estudiantes principiantes\, medios y avanzados de cualquier tradición del Yoga. \nAprenderemos a usarlo como un ejercicio cardiovascular para calentar tu cuerpo\, o para tonificar los músculos y órganos. \nLuego nos relajaremos con las potentes y sanadoras vibraciones con la terapia del Gong. \n¿Qué es el Saludo al Sol? \nEs una meditación en movimiento a través de 12 posturas realizadas como un solo ejercicio continuo\, y con una respiración profunda y consciente
URL:https://www.yogaymusica.es/event/hot-kundalini-yoga-sana-tu-espada/
LOCATION:Life Alicante\, Avda. Locutor Vicente Hipolito\, 39.\, Alicante\, Alicante\, 03540
CATEGORIES:Clases,Talleres,Terapias
ATTACH;FMTTYPE=image/jpeg:https://www.yogaymusica.es/wp-content/uploads/2023/02/Sesion-yoga-zona-phit-el-arco-junio-2017-57.jpeg
ORGANIZER;CN="Harchand Singh":MAILTO:info@
END:VEVENT
END:VCALENDAR