BEGIN:VCALENDAR
VERSION:2.0
PRODID:-//Yoga &amp; Música - ECPv6.15.13.1//NONSGML v1.0//EN
CALSCALE:GREGORIAN
METHOD:PUBLISH
X-WR-CALNAME:Yoga &amp; Música
X-ORIGINAL-URL:https://www.yogaymusica.es
X-WR-CALDESC:Eventos para Yoga &amp; Música
REFRESH-INTERVAL;VALUE=DURATION:PT1H
X-Robots-Tag:noindex
X-PUBLISHED-TTL:PT1H
BEGIN:VTIMEZONE
TZID:Europe/Paris
BEGIN:DAYLIGHT
TZOFFSETFROM:+0100
TZOFFSETTO:+0200
TZNAME:CEST
DTSTART:20220327T010000
END:DAYLIGHT
BEGIN:STANDARD
TZOFFSETFROM:+0200
TZOFFSETTO:+0100
TZNAME:CET
DTSTART:20221030T010000
END:STANDARD
BEGIN:DAYLIGHT
TZOFFSETFROM:+0100
TZOFFSETTO:+0200
TZNAME:CEST
DTSTART:20230326T010000
END:DAYLIGHT
BEGIN:STANDARD
TZOFFSETFROM:+0200
TZOFFSETTO:+0100
TZNAME:CET
DTSTART:20231029T010000
END:STANDARD
BEGIN:DAYLIGHT
TZOFFSETFROM:+0100
TZOFFSETTO:+0200
TZNAME:CEST
DTSTART:20240331T010000
END:DAYLIGHT
BEGIN:STANDARD
TZOFFSETFROM:+0200
TZOFFSETTO:+0100
TZNAME:CET
DTSTART:20241027T010000
END:STANDARD
END:VTIMEZONE
BEGIN:VEVENT
DTSTART;VALUE=DATE:20230406
DTEND;VALUE=DATE:20230410
DTSTAMP:20260423T131458
CREATED:20230320T160415Z
LAST-MODIFIED:20230322T162636Z
UID:20475-1680739200-1681084799@www.yogaymusica.es
SUMMARY:Retiro Semana Santa 2023
DESCRIPTION:Un retiro para recargarte\, descansar y renovarte. \n✅ Limpieza energética\, emocional\, mental y física con prácticas yóguicas\, puja de gong y alimentación saludable. \n✅ Shakti Dance\, masaje yóguico tailandés y talleres para el despertar la fortaleza interior. \n✅ Relajación\, renovación y diversión en las aguas termales mineromedicinales y senderismo por exóticos paisajes. \n✅ Días para disfrutar de la energía grupal\, aprendiendo técnicas y herramientas para estar cada día más sanos\, fuertes y felices. \nFECHA: Desde el jueves 6 hasta el domingo 9 de abril. \nLUGAR:  La Buena Vida. Pinoso (Alicante) \nPRECIO:  \n\n330€\n\nIMPORTANTE TRAER: \n\nRopa cómoda\, preferentemente blanca y de algodón.\nEsterilla\, manta y cojín para la práctica del yoga.\nBañador\, toalla\, albornoz\, chanclas.\nPañuelo para cubrir los ojos.\n\nINFORMACIÓN: 656 288 038 \nINSCRIPCIONES: CLIC AQUÍ\n \nPROGRAMACIÓN: \nJueves 6  \n\n12 hs Recepción y acomodación.\n14 hs Comida.\n16 hs Taller de Alimentación Saludable. Aprenderás deliciosas y medicinales recetas.\n18 hs Kundalini Yoga.\n20 hs Cena con los ojos vendados. Una experiencia sensorial muy especial y divertida.\n21 hs Puja de gong.\n\nViernes 7  \n\n7 hs Sadhana matinal Kundalini Yoga.\n9 hs Desayuno.\n11 hs Meditación dos horas y media con el Mool Mantra.\n14 hs Comida.\n16 hs Shakti Dance con Pilar Sala. El gozo de danzar.\n19 hs Kundalini Yoga.\n20 hs Cena.\n21 hs Concierto Ahimsa.\n\nSábado 8 \n\n7 hs Sadhana matinal Kundalini Yoga.\n9 hs Desayuno.\n11 hs Aguas termales\, senderismo & Masaje Thai.\n14 hs Comida.\n18 hs Taller con Ahimsa.\n21 hs Cena.\n22 hs Meditación grupal.\n\nDomingo 9 \n\n7 hs Sadhana matinal Kundalini Yoga.\n9 hs Desayuno.\n11 hs Taller con Harchand Singh.\n14 hs Comida despedida.\n\nSOBRE LAS AGUAS TERMALES: \nNos bañaremos en agua muy pura\, tal y como sale desde el vientre de la Madre Tierra\, que\, en medio de un maravilloso paisaje desértico\, mana desde unos dos kilómetros de profundidad\, usada desde hace más de 2.500 años. \nTiene gran pureza y contiene hierro\, fósforo\, yodo\, sodio\, bromo\, potasio\, magnesio\, etc.\, que entran al organismo a través de la piel. \nDurante dos horas nos haremos un tratamiento hidrotermomineral muy bueno para la salud de la piel\, los músculos\, los huesos y los órganos internos. \nLos baños termales se vienen utilizando desde la antigüedad para la cura y alivio de múltiples enfermedades\, especialmente afecciones reumáticas y de la piel. \nAlgunos de los beneficios de las aguas termales: \n\nMejora la circulación sanguínea\nRelaja los músculos y el sistema nervioso.\nEl vapor del agua caliente ayuda al sistema respiratorio.\nActiva el metabolismo\nEstimula las defensas del organismo.\nDepura la sangre\, eliminando las toxinas por medio de la sudoración.\nCalma dolores.\nReconstituye y tonifica el organismo en general.\nAyuda a reducir el estrés y la ansiedad.\n\nSOBRE LA PUJA DE GONG: \nEs una ceremonia sagrada en la que los Gongs se mantienen vibrando ininterrumpidamente\, durante 7 horas y media. \nDurante la puja puedes dormir\, meditar o simplemente relajarte y disfrutar de las vibraciones sonoras. \nEn la Puja de Gong se ofrece una experiencia de escucha profunda e inmersión a través de las ondas de sonido que emite el instrumento y que masajean y calman cada célula del cuerpo con vibración y sonido puros. \nBENEFICIOS DE UNA PUJA DE GONG: \n\nProfunda relajación y mente despejada.\nReducción inmediata del estrés y la ansiedad.\nEstimulación el sistema glandular y mejora de su función.\nEstimulación de la circulación sanguínea.\nEquilibrio de la energía emocional.\nRegeneración de las neuronas y sus interconexiones.\nRegeneración del sistema nervioso.\nApertura y alineación de los chakras.\nFortalecimiento del sistema nervioso parasimpático.
URL:https://www.yogaymusica.es/event/retiro-semana-santa-2023/
LOCATION:Finca La Buena Vida\, Los Gabrieles\, 1\, Pinoso\, Alicante\, 03650\, España
CATEGORIES:Clases,Retiros,Talleres,Terapias
ATTACH;FMTTYPE=image/jpeg:https://www.yogaymusica.es/wp-content/uploads/2023/03/Retiro-Semana-Santa-2.jpg
ORGANIZER;CN="Harchand Singh":MAILTO:info@
END:VEVENT
END:VCALENDAR